BEGIN:VCALENDAR
VERSION:2.0
PRODID:-//BxB Experience - ECPv6.15.3//NONSGML v1.0//EN
CALSCALE:GREGORIAN
METHOD:PUBLISH
X-WR-CALNAME:BxB Experience
X-ORIGINAL-URL:https://bxbproexperience.com
X-WR-CALDESC:Events for BxB Experience
REFRESH-INTERVAL;VALUE=DURATION:PT1H
X-Robots-Tag:noindex
X-PUBLISHED-TTL:PT1H
BEGIN:VTIMEZONE
TZID:UTC
BEGIN:STANDARD
TZOFFSETFROM:+0000
TZOFFSETTO:+0000
TZNAME:UTC
DTSTART:20250101T000000
END:STANDARD
END:VTIMEZONE
BEGIN:VEVENT
DTSTART;TZID=UTC:20260317T180000
DTEND;TZID=UTC:20260317T190000
DTSTAMP:20260425T161103
CREATED:20260223T033216Z
LAST-MODIFIED:20260223T033216Z
UID:773-1773770400-1773774000@bxbproexperience.com
SUMMARY:BXB ProExchange Chapter Meeting
DESCRIPTION:Every Tuesday at 6:00 p.m. – 7:30 .m. \nLocation: Palmer’s American Grill\nFarmingdale\, NY
URL:https://bxbproexperience.com/event/bxb-proexchange-chapter-meeting-4/
LOCATION:Palmer’s American Grill\, 123 Fulton St\, Farmingdale\, NY\, 11735\, United States
CATEGORIES:Networking Meeting
ORGANIZER;CN="John Franco - BXB Pro Exchange":MAILTO:jfranco@contourmtg.com
END:VEVENT
BEGIN:VEVENT
DTSTART;TZID=UTC:20260317T064500
DTEND;TZID=UTC:20260317T083000
DTSTAMP:20260425T161103
CREATED:20260223T022652Z
LAST-MODIFIED:20260223T022652Z
UID:747-1773729900-1773736200@bxbproexperience.com
SUMMARY:Empowered Partners Chapter Meeting
DESCRIPTION:Every Tuesday at 6:45 a.m. – 8:30 a.m. \nLocation: Heritage Center\n633 Mount Sinai-Coram Road\nMt. Sinai\, NY 11766
URL:https://bxbproexperience.com/event/empowered-partners-chapter-meeting-4/
LOCATION:Heritage Center\, 633 Mount Sinai-Coram Road\, Mt. Sinai\, NY\, 11766\, United States
CATEGORIES:Networking Meeting
ORGANIZER;CN="Melanie J. Rasmussen - Empowered Partners":MAILTO:Melanie@reachforthestarstutoring.com
END:VEVENT
BEGIN:VEVENT
DTSTART;TZID=UTC:20260316T180000
DTEND;TZID=UTC:20260316T193000
DTSTAMP:20260425T161103
CREATED:20260210T203036Z
LAST-MODIFIED:20260210T203036Z
UID:721-1773684000-1773689400@bxbproexperience.com
SUMMARY:BxB Pro Experience Meeting
DESCRIPTION:Speaker: Jessica Olmeda (Representing Big Sky Electric Corp — a remarkable company known for top-of-the-line service — Jessica is a published author and marketing and operations powerhouse fueled by integrity\, excellence\, and positive impact.)
URL:https://bxbproexperience.com/event/bxb-pro-experience-meeting-3/
LOCATION:The Experience\, 180 Commerce Drive\, Hauppauge\, NY\, 11788\, United States
CATEGORIES:Networking Meeting
ATTACH;FMTTYPE=image/jpeg:https://bxbproexperience.com/wp-content/uploads/2026/01/EXP-TV-Screen-1920x1080-vertical-bxb.jpg
END:VEVENT
BEGIN:VEVENT
DTSTART;TZID=UTC:20260312T180000
DTEND;TZID=UTC:20260312T200000
DTSTAMP:20260425T161103
CREATED:20260310T220701Z
LAST-MODIFIED:20260310T220701Z
UID:817-1773338400-1773345600@bxbproexperience.com
SUMMARY:Back To Business Networking Event (L.I. News Radio)
DESCRIPTION:Free for guests to enter \nCome network and support Joe Beauchamp as he launches his new upcoming radio show “Exponential Impact”.
URL:https://bxbproexperience.com/event/back-to-business-networking-event-l-i-news-radio/
LOCATION:Long Island MacArthur Airport\, 100 Arrival Avenue\, Ronkonkoma\, United States
ATTACH;FMTTYPE=image/jpeg:https://bxbproexperience.com/wp-content/uploads/2026/03/WhatsApp-Image-2026-03-10-at-12.58.47-PM.jpeg
END:VEVENT
BEGIN:VEVENT
DTSTART;TZID=UTC:20260312T070000
DTEND;TZID=UTC:20260312T080000
DTSTAMP:20260425T161103
CREATED:20260223T015447Z
LAST-MODIFIED:20260223T015447Z
UID:734-1773298800-1773302400@bxbproexperience.com
SUMMARY:Sunrise Chapter Meeting
DESCRIPTION:Every Thursday at 7:00 a.m. \nLocation: Panera Bread\nNesconset Highway\nPort Jefferson Station\, NY
URL:https://bxbproexperience.com/event/sunrise-chapter-meeting-2/
LOCATION:Panera Bread\, 4959 Nesconset Hwy\, Port Jefferson Station\, 11776
CATEGORIES:Networking Meeting
ORGANIZER;CN="Sunrise Chapter%3A Mark Legaspi":MAILTO:mlegaspi@imperial-coverage.com
END:VEVENT
BEGIN:VEVENT
DTSTART;TZID=UTC:20260311T070000
DTEND;TZID=UTC:20260311T083000
DTSTAMP:20260425T161103
CREATED:20260223T031347Z
LAST-MODIFIED:20260223T031347Z
UID:756-1773212400-1773217800@bxbproexperience.com
SUMMARY:BXB Pro Advanced Chapter Meeting
DESCRIPTION:Every Wednesday at 7:00 a.m. – 8:30 a.m. \nLocation: Moriches Bay Diner\n62 Montauk Highway\nMoriches\, NY 11955
URL:https://bxbproexperience.com/event/bxb-pro-advanced-chapter-meeting-3/
LOCATION:Moriches Bay Diner\, 62 Montauk Highway\, Moriches\, NY\, 11955\, United States
CATEGORIES:Networking Meeting
ORGANIZER;CN="Joseph LoGiudice - BXB Pro Advanced":MAILTO:Joe@lirealtypro.com
END:VEVENT
BEGIN:VEVENT
DTSTART;TZID=UTC:20260310T180000
DTEND;TZID=UTC:20260310T190000
DTSTAMP:20260425T161103
CREATED:20260223T034719Z
LAST-MODIFIED:20260223T034719Z
UID:787-1773165600-1773169200@bxbproexperience.com
SUMMARY:BXB On Main Chapter Meeting
DESCRIPTION:Every Tuesday at 6:00 p.m. \nLocation: Gallo\, Patchogue
URL:https://bxbproexperience.com/event/bxb-on-main-chapter-meeting-4/
LOCATION:Gallo\, 3 E Main St\, Patchogue\, 11772\, United States
CATEGORIES:Networking Meeting
ORGANIZER;CN="Kaysi Fitzpatrick - BXB On Main":MAILTO:klfitzpatric@ft.newyorklife.com
END:VEVENT
BEGIN:VEVENT
DTSTART;TZID=UTC:20260310T180000
DTEND;TZID=UTC:20260310T190000
DTSTAMP:20260425T161103
CREATED:20260223T033151Z
LAST-MODIFIED:20260223T033151Z
UID:774-1773165600-1773169200@bxbproexperience.com
SUMMARY:BXB ProExchange Chapter Meeting
DESCRIPTION:Every Tuesday at 6:00 p.m. – 7:30 .m. \nLocation: Palmer’s American Grill\nFarmingdale\, NY
URL:https://bxbproexperience.com/event/bxb-proexchange-chapter-meeting-3/
LOCATION:Palmer’s American Grill\, 123 Fulton St\, Farmingdale\, NY\, 11735\, United States
CATEGORIES:Networking Meeting
ORGANIZER;CN="John Franco - BXB Pro Exchange":MAILTO:jfranco@contourmtg.com
END:VEVENT
BEGIN:VEVENT
DTSTART;TZID=UTC:20260310T064500
DTEND;TZID=UTC:20260310T083000
DTSTAMP:20260425T161103
CREATED:20260223T022623Z
LAST-MODIFIED:20260223T022623Z
UID:748-1773125100-1773131400@bxbproexperience.com
SUMMARY:Empowered Partners Chapter Meeting
DESCRIPTION:Every Tuesday at 6:45 a.m. – 8:30 a.m. \nLocation: Heritage Center\n633 Mount Sinai-Coram Road\nMt. Sinai\, NY 11766
URL:https://bxbproexperience.com/event/empowered-partners-chapter-meeting-3/
LOCATION:Heritage Center\, 633 Mount Sinai-Coram Road\, Mt. Sinai\, NY\, 11766\, United States
CATEGORIES:Networking Meeting
ORGANIZER;CN="Melanie J. Rasmussen - Empowered Partners":MAILTO:Melanie@reachforthestarstutoring.com
END:VEVENT
BEGIN:VEVENT
DTSTART;TZID=UTC:20260309T180000
DTEND;TZID=UTC:20260309T193000
DTSTAMP:20260425T161103
CREATED:20260210T202232Z
LAST-MODIFIED:20260225T000911Z
UID:720-1773079200-1773084600@bxbproexperience.com
SUMMARY:BxB Pro Experience Meeting
DESCRIPTION:Special Guest: Ryan Winters (BXBProExperience Website Review)
URL:https://bxbproexperience.com/event/bxb-pro-experience-meeting-2/
LOCATION:The Experience\, 180 Commerce Drive\, Hauppauge\, NY\, 11788\, United States
CATEGORIES:Networking Meeting
ATTACH;FMTTYPE=image/jpeg:https://bxbproexperience.com/wp-content/uploads/2026/01/EXP-TV-Screen-1920x1080-vertical-bxb.jpg
END:VEVENT
BEGIN:VEVENT
DTSTART;TZID=UTC:20260305T070000
DTEND;TZID=UTC:20260305T080000
DTSTAMP:20260425T161103
CREATED:20260223T015422Z
LAST-MODIFIED:20260223T015422Z
UID:731-1772694000-1772697600@bxbproexperience.com
SUMMARY:Sunrise Chapter Meeting
DESCRIPTION:Every Thursday at 7:00 a.m. \nLocation: Panera Bread\nNesconset Highway\nPort Jefferson Station\, NY
URL:https://bxbproexperience.com/event/sunrise-chapter-meeting/
LOCATION:Panera Bread\, 4959 Nesconset Hwy\, Port Jefferson Station\, 11776
CATEGORIES:Networking Meeting
ORGANIZER;CN="Sunrise Chapter%3A Mark Legaspi":MAILTO:mlegaspi@imperial-coverage.com
END:VEVENT
BEGIN:VEVENT
DTSTART;TZID=UTC:20260304T070000
DTEND;TZID=UTC:20260304T083000
DTSTAMP:20260425T161103
CREATED:20260223T031315Z
LAST-MODIFIED:20260223T031315Z
UID:755-1772607600-1772613000@bxbproexperience.com
SUMMARY:BXB Pro Advanced Chapter Meeting
DESCRIPTION:Every Wednesday at 7:00 a.m. – 8:30 a.m. \nLocation: Moriches Bay Diner\n62 Montauk Highway\nMoriches\, NY 11955
URL:https://bxbproexperience.com/event/bxb-pro-advanced-chapter-meeting-2/
LOCATION:Moriches Bay Diner\, 62 Montauk Highway\, Moriches\, NY\, 11955\, United States
CATEGORIES:Networking Meeting
ORGANIZER;CN="Joseph LoGiudice - BXB Pro Advanced":MAILTO:Joe@lirealtypro.com
END:VEVENT
BEGIN:VEVENT
DTSTART;TZID=UTC:20260303T180000
DTEND;TZID=UTC:20260303T190000
DTSTAMP:20260425T161103
CREATED:20260223T034659Z
LAST-MODIFIED:20260223T034659Z
UID:788-1772560800-1772564400@bxbproexperience.com
SUMMARY:BXB On Main Chapter Meeting
DESCRIPTION:Every Tuesday at 6:00 p.m. \nLocation: Gallo\, Patchogue
URL:https://bxbproexperience.com/event/bxb-on-main-chapter-meeting-3/
LOCATION:Gallo\, 3 E Main St\, Patchogue\, 11772\, United States
CATEGORIES:Networking Meeting
ORGANIZER;CN="Kaysi Fitzpatrick - BXB On Main":MAILTO:klfitzpatric@ft.newyorklife.com
END:VEVENT
BEGIN:VEVENT
DTSTART;TZID=UTC:20260303T180000
DTEND;TZID=UTC:20260303T190000
DTSTAMP:20260425T161103
CREATED:20260223T033124Z
LAST-MODIFIED:20260223T033124Z
UID:775-1772560800-1772564400@bxbproexperience.com
SUMMARY:BXB ProExchange Chapter Meeting
DESCRIPTION:Every Tuesday at 6:00 p.m. – 7:30 .m. \nLocation: Palmer’s American Grill\nFarmingdale\, NY
URL:https://bxbproexperience.com/event/bxb-proexchange-chapter-meeting-2/
LOCATION:Palmer’s American Grill\, 123 Fulton St\, Farmingdale\, NY\, 11735\, United States
CATEGORIES:Networking Meeting
ORGANIZER;CN="John Franco - BXB Pro Exchange":MAILTO:jfranco@contourmtg.com
END:VEVENT
BEGIN:VEVENT
DTSTART;TZID=UTC:20260303T064500
DTEND;TZID=UTC:20260303T083000
DTSTAMP:20260425T161103
CREATED:20260223T022559Z
LAST-MODIFIED:20260223T022559Z
UID:743-1772520300-1772526600@bxbproexperience.com
SUMMARY:Empowered Partners Chapter Meeting
DESCRIPTION:Every Tuesday at 6:45 a.m. – 8:30 a.m. \nLocation: Heritage Center\n633 Mount Sinai-Coram Road\nMt. Sinai\, NY 11766
URL:https://bxbproexperience.com/event/empowered-partners-chapter-meeting-2/
LOCATION:Heritage Center\, 633 Mount Sinai-Coram Road\, Mt. Sinai\, NY\, 11766\, United States
CATEGORIES:Networking Meeting
ORGANIZER;CN="Melanie J. Rasmussen - Empowered Partners":MAILTO:Melanie@reachforthestarstutoring.com
END:VEVENT
BEGIN:VEVENT
DTSTART;TZID=UTC:20260302T180000
DTEND;TZID=UTC:20260302T193000
DTSTAMP:20260425T161103
CREATED:20260122T142720Z
LAST-MODIFIED:20260225T000811Z
UID:695-1772474400-1772479800@bxbproexperience.com
SUMMARY:BxB Pro Experience Meeting
DESCRIPTION:Speaker: Noah Roth (Noah Roth is a dynamic events professional at UBS Arena\, representing the New York Islanders and live entertainment\, specializing in seamless corporate events and unforgettable entertainment packages.
URL:https://bxbproexperience.com/event/bxb-pro-experience-meeting-2-16-26/
LOCATION:The Experience\, 180 Commerce Drive\, Hauppauge\, NY\, 11788\, United States
CATEGORIES:Networking Meeting
ATTACH;FMTTYPE=image/jpeg:https://bxbproexperience.com/wp-content/uploads/2026/01/EXP-TV-Screen-1920x1080-vertical-bxb.jpg
END:VEVENT
BEGIN:VEVENT
DTSTART;TZID=UTC:20260226T070000
DTEND;TZID=UTC:20260226T080000
DTSTAMP:20260425T161103
CREATED:20260223T015058Z
LAST-MODIFIED:20260223T015251Z
UID:728-1772089200-1772092800@bxbproexperience.com
SUMMARY:Sunrise Chapter Meeting
DESCRIPTION:Every Thursday at 7:00 a.m. \nLocation: Panera Bread\nNesconset Highway\nPort Jefferson Station\, NY
URL:https://bxbproexperience.com/event/bxb-pro-experience-meeting-5/
LOCATION:Panera Bread\, 4959 Nesconset Hwy\, Port Jefferson Station\, 11776
CATEGORIES:Networking Meeting
ORGANIZER;CN="Sunrise Chapter%3A Mark Legaspi":MAILTO:mlegaspi@imperial-coverage.com
END:VEVENT
BEGIN:VEVENT
DTSTART;TZID=UTC:20260225T070000
DTEND;TZID=UTC:20260225T083000
DTSTAMP:20260425T161103
CREATED:20260223T030943Z
LAST-MODIFIED:20260223T030943Z
UID:752-1772002800-1772008200@bxbproexperience.com
SUMMARY:BXB Pro Advanced Chapter Meeting
DESCRIPTION:Every Wednesday at 7:00 a.m. – 8:30 a.m. \nLocation: Moriches Bay Diner\n62 Montauk Highway\nMoriches\, NY 11955
URL:https://bxbproexperience.com/event/bxb-pro-advanced-chapter-meeting/
LOCATION:Moriches Bay Diner\, 62 Montauk Highway\, Moriches\, NY\, 11955\, United States
CATEGORIES:Networking Meeting
ORGANIZER;CN="Joseph LoGiudice - BXB Pro Advanced":MAILTO:Joe@lirealtypro.com
END:VEVENT
BEGIN:VEVENT
DTSTART;TZID=UTC:20260224T180000
DTEND;TZID=UTC:20260224T190000
DTSTAMP:20260425T161103
CREATED:20260223T034436Z
LAST-MODIFIED:20260223T034436Z
UID:777-1771956000-1771959600@bxbproexperience.com
SUMMARY:BXB On Main Chapter Meeting
DESCRIPTION:Every Tuesday at 6:00 p.m. \nLocation: Gallo\, Patchogue
URL:https://bxbproexperience.com/event/bxb-on-main-chapter-meeting/
LOCATION:Gallo\, 3 E Main St\, Patchogue\, 11772\, United States
CATEGORIES:Networking Meeting
ORGANIZER;CN="Kaysi Fitzpatrick - BXB On Main":MAILTO:klfitzpatric@ft.newyorklife.com
END:VEVENT
BEGIN:VEVENT
DTSTART;TZID=UTC:20260224T180000
DTEND;TZID=UTC:20260224T190000
DTSTAMP:20260425T161103
CREATED:20260223T032716Z
LAST-MODIFIED:20260223T032716Z
UID:765-1771956000-1771959600@bxbproexperience.com
SUMMARY:BXB ProExchange Chapter Meeting
DESCRIPTION:Every Tuesday at 6:00 p.m. – 7:30 .m. \nLocation: Palmer’s American Grill\nFarmingdale\, NY
URL:https://bxbproexperience.com/event/bxb-proexchange-chapter-meeting/
LOCATION:Palmer’s American Grill\, 123 Fulton St\, Farmingdale\, NY\, 11735\, United States
CATEGORIES:Networking Meeting
ORGANIZER;CN="John Franco - BXB Pro Exchange":MAILTO:jfranco@contourmtg.com
END:VEVENT
BEGIN:VEVENT
DTSTART;TZID=UTC:20260224T064500
DTEND;TZID=UTC:20260224T083000
DTSTAMP:20260425T161103
CREATED:20260223T022444Z
LAST-MODIFIED:20260223T022444Z
UID:740-1771915500-1771921800@bxbproexperience.com
SUMMARY:Empowered Partners Chapter Meeting
DESCRIPTION:Every Tuesday at 6:45 a.m. – 8:30 a.m. \nLocation: Heritage Center\n633 Mount Sinai-Coram Road\nMt. Sinai\, NY 11766
URL:https://bxbproexperience.com/event/empowered-partners-chapter-meeting/
LOCATION:Heritage Center\, 633 Mount Sinai-Coram Road\, Mt. Sinai\, NY\, 11766\, United States
CATEGORIES:Networking Meeting
ORGANIZER;CN="Melanie J. Rasmussen - Empowered Partners":MAILTO:Melanie@reachforthestarstutoring.com
END:VEVENT
BEGIN:VEVENT
DTSTART;TZID=UTC:20260223T180000
DTEND;TZID=UTC:20260223T203000
DTSTAMP:20260425T161103
CREATED:20260210T213621Z
LAST-MODIFIED:20260218T135743Z
UID:724-1771869600-1771878600@bxbproexperience.com
SUMMARY:Free Networking Night
DESCRIPTION:Free Networking Night in partnership with 516Ads.com and 631Ads.com. \nCharity Speaker: Wendy Linsalata (LIADV – Educating the community to break the cycle of violence.)
URL:https://bxbproexperience.com/event/free-networking-night/
LOCATION:The Experience\, 180 Commerce Drive\, Hauppauge\, NY\, 11788\, United States
CATEGORIES:Networking Meeting
ATTACH;FMTTYPE=image/jpeg:https://bxbproexperience.com/wp-content/uploads/2026/02/626837358_10236536678529775_2033749014704962499_n.jpg
END:VEVENT
BEGIN:VEVENT
DTSTART;TZID=UTC:20260216T180000
DTEND;TZID=UTC:20260216T193000
DTSTAMP:20260425T161103
CREATED:20260210T203354Z
LAST-MODIFIED:20260210T205822Z
UID:722-1771264800-1771270200@bxbproexperience.com
SUMMARY:BxB Pro Experience Meeting
DESCRIPTION:Speaker: Michael Kogan (Mike Kogan is the owner of MKNY Business Solutions\, driven by a passion for numbers and a commitment to helping businesses strengthen and streamline their financial books.) \nSpecial Guest: Cliff Pfleger (Providing a review of our App) \nCharity Speaker: Wendy Linsalata (LIADV – Educating the community to break the cycle of violence.)
URL:https://bxbproexperience.com/event/bxb-pro-experience-meeting-4/
LOCATION:The Experience\, 180 Commerce Drive\, Hauppauge\, NY\, 11788\, United States
CATEGORIES:Networking Meeting
ATTACH;FMTTYPE=image/jpeg:https://bxbproexperience.com/wp-content/uploads/2026/01/EXP-TV-Screen-1920x1080-vertical-bxb.jpg
END:VEVENT
BEGIN:VEVENT
DTSTART;TZID=UTC:20260209T180000
DTEND;TZID=UTC:20260209T193000
DTSTAMP:20260425T161103
CREATED:20260122T142702Z
LAST-MODIFIED:20260130T153155Z
UID:694-1770660000-1770665400@bxbproexperience.com
SUMMARY:BxB Pro Experience Meeting
DESCRIPTION:
URL:https://bxbproexperience.com/event/bxb-pro-experience-meeting-2-9-26/
LOCATION:The Experience\, 180 Commerce Drive\, Hauppauge\, NY\, 11788\, United States
CATEGORIES:Networking Meeting
ATTACH;FMTTYPE=image/jpeg:https://bxbproexperience.com/wp-content/uploads/2026/01/EXP-TV-Screen-1920x1080-vertical-bxb.jpg
END:VEVENT
BEGIN:VEVENT
DTSTART;TZID=UTC:20260203T180000
DTEND;TZID=UTC:20260203T210000
DTSTAMP:20260425T161103
CREATED:20260129T225053Z
LAST-MODIFIED:20260129T225053Z
UID:698-1770141600-1770152400@bxbproexperience.com
SUMMARY:Local Business Owners Mixer
DESCRIPTION:BxB Pro Unity invites local business owners to a mixer. \n\nHor dourves\nCash Bar\nBusiness Casual Attire\nAll are welcome
URL:https://bxbproexperience.com/event/business-owners-mixer-february/
LOCATION:75 Main\, 75 Main Street\, Southampton\, NY\, 11968
CATEGORIES:Networking Meeting
ATTACH;FMTTYPE=image/jpeg:https://bxbproexperience.com/wp-content/uploads/2026/01/6e545f08-c0fa-4fce-992c-ef14d3e2bcee.jpg
END:VEVENT
BEGIN:VEVENT
DTSTART;TZID=UTC:20260202T180000
DTEND;TZID=UTC:20260202T193000
DTSTAMP:20260425T161103
CREATED:20260122T142628Z
LAST-MODIFIED:20260130T183014Z
UID:693-1770055200-1770060600@bxbproexperience.com
SUMMARY:BxB Pro Experience Meeting
DESCRIPTION:Featured Speaker: Mike Kogan (MKNY Biz Solutions)
URL:https://bxbproexperience.com/event/bxb-pro-experience-meeting/
LOCATION:The Experience\, 180 Commerce Drive\, Hauppauge\, NY\, 11788\, United States
CATEGORIES:Networking Meeting
ATTACH;FMTTYPE=image/jpeg:https://bxbproexperience.com/wp-content/uploads/2026/01/EXP-TV-Screen-1920x1080-vertical-bxb.jpg
END:VEVENT
BEGIN:VEVENT
DTSTART;TZID=UTC:20260126T180000
DTEND;TZID=UTC:20260126T203000
DTSTAMP:20260425T161103
CREATED:20260122T142308Z
LAST-MODIFIED:20260122T142827Z
UID:691-1769450400-1769459400@bxbproexperience.com
SUMMARY:Free Networking Night
DESCRIPTION:Free Networking Night in partnership with 516Ads.com and 631Ads.com.
URL:https://bxbproexperience.com/event/free-networking-night-1-26-26/
LOCATION:The Experience\, 180 Commerce Drive\, Hauppauge\, NY\, 11788\, United States
CATEGORIES:Networking Meeting
ATTACH;FMTTYPE=image/jpeg:https://bxbproexperience.com/wp-content/uploads/2026/01/616191277_10236300211658251_1664058356888120373_n.jpg
END:VEVENT
BEGIN:VEVENT
DTSTART;TZID=UTC:20251229T180000
DTEND;TZID=UTC:20251229T193000
DTSTAMP:20260425T161103
CREATED:20251102T170108Z
LAST-MODIFIED:20251102T170220Z
UID:665-1767031200-1767036600@bxbproexperience.com
SUMMARY:BxB Pro Experience Meeting
DESCRIPTION:
URL:https://bxbproexperience.com/event/bxb-pro-experience-meeting-9/
LOCATION:The Experience\, 180 Commerce Drive\, Hauppauge\, NY\, 11788\, United States
CATEGORIES:Networking Meeting
ATTACH;FMTTYPE=image/jpeg:https://bxbproexperience.com/wp-content/uploads/2025/09/EXP-TV-Screen-1920x1080-horizontal-vertical-bxb.jpg
END:VEVENT
BEGIN:VEVENT
DTSTART;TZID=UTC:20251222T180000
DTEND;TZID=UTC:20251222T193000
DTSTAMP:20260425T161103
CREATED:20251102T170051Z
LAST-MODIFIED:20251102T170208Z
UID:664-1766426400-1766431800@bxbproexperience.com
SUMMARY:BxB Pro Experience Meeting
DESCRIPTION:
URL:https://bxbproexperience.com/event/bxb-pro-experience-meeting-8/
LOCATION:The Experience\, 180 Commerce Drive\, Hauppauge\, NY\, 11788\, United States
CATEGORIES:Networking Meeting
ATTACH;FMTTYPE=image/jpeg:https://bxbproexperience.com/wp-content/uploads/2025/09/EXP-TV-Screen-1920x1080-horizontal-vertical-bxb.jpg
END:VEVENT
END:VCALENDAR