BEGIN:VCALENDAR
VERSION:2.0
PRODID:-//BxB Experience - ECPv6.15.3//NONSGML v1.0//EN
CALSCALE:GREGORIAN
METHOD:PUBLISH
X-WR-CALNAME:BxB Experience
X-ORIGINAL-URL:https://bxbproexperience.com
X-WR-CALDESC:Events for BxB Experience
REFRESH-INTERVAL;VALUE=DURATION:PT1H
X-Robots-Tag:noindex
X-PUBLISHED-TTL:PT1H
BEGIN:VTIMEZONE
TZID:UTC
BEGIN:STANDARD
TZOFFSETFROM:+0000
TZOFFSETTO:+0000
TZNAME:UTC
DTSTART:20250101T000000
END:STANDARD
END:VTIMEZONE
BEGIN:VEVENT
DTSTART;TZID=UTC:20251222T180000
DTEND;TZID=UTC:20251222T193000
DTSTAMP:20260425T185001
CREATED:20251102T170051Z
LAST-MODIFIED:20251102T170208Z
UID:664-1766426400-1766431800@bxbproexperience.com
SUMMARY:BxB Pro Experience Meeting
DESCRIPTION:
URL:https://bxbproexperience.com/event/bxb-pro-experience-meeting-8/
LOCATION:The Experience\, 180 Commerce Drive\, Hauppauge\, NY\, 11788\, United States
CATEGORIES:Networking Meeting
ATTACH;FMTTYPE=image/jpeg:https://bxbproexperience.com/wp-content/uploads/2025/09/EXP-TV-Screen-1920x1080-horizontal-vertical-bxb.jpg
END:VEVENT
END:VCALENDAR