BEGIN:VCALENDAR
VERSION:2.0
PRODID:-//BxB Experience - ECPv6.15.3//NONSGML v1.0//EN
CALSCALE:GREGORIAN
METHOD:PUBLISH
X-ORIGINAL-URL:https://bxbproexperience.com
X-WR-CALDESC:Events for BxB Experience
REFRESH-INTERVAL;VALUE=DURATION:PT1H
X-Robots-Tag:noindex
X-PUBLISHED-TTL:PT1H
BEGIN:VTIMEZONE
TZID:UTC
BEGIN:STANDARD
TZOFFSETFROM:+0000
TZOFFSETTO:+0000
TZNAME:UTC
DTSTART:20260101T000000
END:STANDARD
END:VTIMEZONE
BEGIN:VEVENT
DTSTART;TZID=UTC:20260419T123000
DTEND;TZID=UTC:20260419T190000
DTSTAMP:20260425T124539
CREATED:20260310T180753Z
LAST-MODIFIED:20260310T180753Z
UID:813-1776601800-1776625200@bxbproexperience.com
SUMMARY:Island Spirit & Cocktail Convention
DESCRIPTION:Celebrate a decade of craft cocktails\, creativity\, and community! Enjoy tastings\, seminars\, workshops\, and competitions featuring some of the region’s top cocktail bars and craft spirit brands — including the TIKI Throw Down and Best Cocktail of the Year competition.\n\n12:30 PM – 7:00 PM\nTickets: $40–$85 (varies by entry time)\nFood available for purchase
URL:https://bxbproexperience.com/event/spirit-cocktail-convention/
LOCATION:The Experience\, 180 Commerce Drive\, Hauppauge\, NY\, 11788\, United States
CATEGORIES:Event
ATTACH;FMTTYPE=image/jpeg:https://bxbproexperience.com/wp-content/uploads/2026/03/463078189_1168927871434375_7785209946269714697_n.jpg
END:VEVENT
END:VCALENDAR