BEGIN:VCALENDAR
VERSION:2.0
PRODID:-//BxB Experience - ECPv6.15.3//NONSGML v1.0//EN
CALSCALE:GREGORIAN
METHOD:PUBLISH
X-WR-CALNAME:BxB Experience
X-ORIGINAL-URL:https://bxbproexperience.com
X-WR-CALDESC:Events for BxB Experience
REFRESH-INTERVAL;VALUE=DURATION:PT1H
X-Robots-Tag:noindex
X-PUBLISHED-TTL:PT1H
BEGIN:VTIMEZONE
TZID:UTC
BEGIN:STANDARD
TZOFFSETFROM:+0000
TZOFFSETTO:+0000
TZNAME:UTC
DTSTART:20260101T000000
END:STANDARD
END:VTIMEZONE
BEGIN:VEVENT
DTSTART;TZID=UTC:20260415T070000
DTEND;TZID=UTC:20260415T083000
DTSTAMP:20260419T130753
CREATED:20260223T031602Z
LAST-MODIFIED:20260223T031602Z
UID:761-1776236400-1776241800@bxbproexperience.com
SUMMARY:BXB Pro Advanced Chapter Meeting
DESCRIPTION:Every Wednesday at 7:00 a.m. – 8:30 a.m. \nLocation: Moriches Bay Diner\n62 Montauk Highway\nMoriches\, NY 11955
URL:https://bxbproexperience.com/event/bxb-pro-advanced-chapter-meeting-8/
LOCATION:Moriches Bay Diner\, 62 Montauk Highway\, Moriches\, NY\, 11955\, United States
CATEGORIES:Networking Meeting
ORGANIZER;CN="Joseph LoGiudice - BXB Pro Advanced":MAILTO:Joe@lirealtypro.com
END:VEVENT
END:VCALENDAR